BEGIN:VCALENDAR
VERSION:2.0
PRODID:-//NHLI Career Pathways - ECPv6.15.3//NONSGML v1.0//EN
CALSCALE:GREGORIAN
METHOD:PUBLISH
X-WR-CALNAME:NHLI Career Pathways
X-ORIGINAL-URL:https://nhlicareerpathways.org
X-WR-CALDESC:Events for NHLI Career Pathways
REFRESH-INTERVAL;VALUE=DURATION:PT1H
X-Robots-Tag:noindex
X-PUBLISHED-TTL:PT1H
BEGIN:VTIMEZONE
TZID:America/New_York
BEGIN:DAYLIGHT
TZOFFSETFROM:-0500
TZOFFSETTO:-0400
TZNAME:EDT
DTSTART:20220313T070000
END:DAYLIGHT
BEGIN:STANDARD
TZOFFSETFROM:-0400
TZOFFSETTO:-0500
TZNAME:EST
DTSTART:20221106T060000
END:STANDARD
BEGIN:DAYLIGHT
TZOFFSETFROM:-0500
TZOFFSETTO:-0400
TZNAME:EDT
DTSTART:20230312T070000
END:DAYLIGHT
BEGIN:STANDARD
TZOFFSETFROM:-0400
TZOFFSETTO:-0500
TZNAME:EST
DTSTART:20231105T060000
END:STANDARD
BEGIN:DAYLIGHT
TZOFFSETFROM:-0500
TZOFFSETTO:-0400
TZNAME:EDT
DTSTART:20240310T070000
END:DAYLIGHT
BEGIN:STANDARD
TZOFFSETFROM:-0400
TZOFFSETTO:-0500
TZNAME:EST
DTSTART:20241103T060000
END:STANDARD
END:VTIMEZONE
BEGIN:VEVENT
DTSTART;VALUE=DATE:20240207
DTEND;VALUE=DATE:20240208
DTSTAMP:20260423T115027
CREATED:20230622T191529Z
LAST-MODIFIED:20240125T153432Z
UID:3702-1707264000-1707350399@nhlicareerpathways.org
SUMMARY:3rd Annual Summit on NH Career Pathways
DESCRIPTION:Career-Connected Learning: Elevating and Amplifying Efforts for All Students to Explore Careers\nThe focus of this year’s conference is to hear from people in the field making career exploration happen for all students. Presenters will share their thinking\, efforts\, and impact of career pathway exploration in their local context\, paying particular attention to the details and resources required that allowed them to fulfill their goals. \n\n\nFebruary 7\, 2024\n8:00 a.m. – 2:30 p.m. \nLocation\nGrappone Conference Center\n70 Constitution Avenue\nConcord\, NH 03301 \nCLICK HERE to Register for the Career Summit \n\n\n 
URL:https://nhlicareerpathways.org/event/career-pathways-summit-3/
LOCATION:Grappone Conference Center\, 70 Constitution Avenue\, Concord\, NH\, 03301\, United States
ATTACH;FMTTYPE=image/png:https://nhlicareerpathways.org/wp-content/uploads/2022/02/graphic_16x9_trbg.png
END:VEVENT
BEGIN:VEVENT
DTSTART;TZID=America/New_York:20230406T083000
DTEND;TZID=America/New_York:20230406T143000
DTSTAMP:20260423T115027
CREATED:20221102T204336Z
LAST-MODIFIED:20221102T232523Z
UID:3654-1680769800-1680791400@nhlicareerpathways.org
SUMMARY:Future Learning Pathways Network Meeting
DESCRIPTION:
URL:https://nhlicareerpathways.org/event/future-learning-pathways-network-meeting-2/
LOCATION:Ashworth by the Sea\, 295 Ocean Blvd\, Hampton\, NH\, 03842\, United States
CATEGORIES:Network Meeting
ATTACH;FMTTYPE=image/png:https://nhlicareerpathways.org/wp-content/uploads/2022/11/Screen-Res__Future-Learning-Pathways.png
END:VEVENT
BEGIN:VEVENT
DTSTART;TZID=America/New_York:20230309T083000
DTEND;TZID=America/New_York:20230309T143000
DTSTAMP:20260423T115027
CREATED:20221102T204055Z
LAST-MODIFIED:20221102T232548Z
UID:3652-1678350600-1678372200@nhlicareerpathways.org
SUMMARY:Future Learning Pathways Network Meeting
DESCRIPTION:
URL:https://nhlicareerpathways.org/event/future-learning-pathways-network-meeting/
LOCATION:Plymouth State University\, 17 High St\, Plymouth\, NH\, 03264\, United States
CATEGORIES:Network Meeting
ATTACH;FMTTYPE=image/png:https://nhlicareerpathways.org/wp-content/uploads/2022/11/Screen-Res__Future-Learning-Pathways.png
END:VEVENT
BEGIN:VEVENT
DTSTART;VALUE=DATE:20230201
DTEND;VALUE=DATE:20230202
DTSTAMP:20260423T115027
CREATED:20220225T175204Z
LAST-MODIFIED:20221222T212519Z
UID:3102-1675209600-1675295999@nhlicareerpathways.org
SUMMARY:2nd Annual Summit on NH Career Pathways
DESCRIPTION:Career-Connected Learning: Elevating and Amplifying Efforts for All Students to Explore Careers\nThe focus of this year’s conference is to hear from people in the field making career exploration happen for all students. Presenters will share their thinking\, efforts\, and impact of career pathway exploration in their local context\, paying particular attention to the details and resources required that allowed them to fulfill their goals. \nRegister for the Summit \n\n\nWednesday\, February 1\, 2023\n8 a.m. – 2:30 p.m. \nGrappone Conference Center\n70 Constitution Avenue\nConcord\, NH 03301 \n$175/person until January 25\n$225 after January 25 \nKEYNOTE SPEAKER \nDr. Michelle Rozen\, Ph.D. – The Change Doctor \nEmbrace Change With Confidence \nLearn powerful strategies for thriving through change. This will be an insights-packed experience\, full of humor and audience engagement.\n \n\nBreakout Sessions \n\nDr. Rozen – Secrets of Communication\nOvercoming Barriers to Opportunities Related to Career Connected Learning\nWhat Does Career Exploration Look Like in K-8\nA Comprehensive High School Providing Career-Connected Learning For All Students\nStudent Choice and Voice in Career Exploration\n\nShare-a Thon \nA speed-dating type of experience where participants will spend 10 minutes with four different practitioners who will share experiences and resources. Choose from 15 different table talks.
URL:https://nhlicareerpathways.org/event/summit-on-nh-career-pathway-development/
LOCATION:Grappone Conference Center\, 70 Constitution Avenue\, Concord\, NH\, 03301\, United States
ATTACH;FMTTYPE=image/png:https://nhlicareerpathways.org/wp-content/uploads/2022/02/graphic_16x9_trbg.png
END:VEVENT
BEGIN:VEVENT
DTSTART;TZID=America/New_York:20221208T083000
DTEND;TZID=America/New_York:20221208T143000
DTSTAMP:20260423T115027
CREATED:20221102T205403Z
LAST-MODIFIED:20221102T232836Z
UID:3657-1670488200-1670509800@nhlicareerpathways.org
SUMMARY:Future Learning Pathways Network Meeting
DESCRIPTION:Hotel Venue TBD
URL:https://nhlicareerpathways.org/event/future-learning-pathways-network-meeting-3/
LOCATION:NH
CATEGORIES:Network Meeting
ATTACH;FMTTYPE=image/png:https://nhlicareerpathways.org/wp-content/uploads/2022/11/Screen-Res__Future-Learning-Pathways.png
END:VEVENT
END:VCALENDAR